BEGIN:VCALENDAR
VERSION:2.0
PRODID:-//St. Marks Downey - ECPv6.2.8//NONSGML v1.0//EN
CALSCALE:GREGORIAN
METHOD:PUBLISH
X-ORIGINAL-URL:https://stmarksdowney.org
X-WR-CALDESC:Events for St. Marks Downey
REFRESH-INTERVAL;VALUE=DURATION:PT1H
X-Robots-Tag:noindex
X-PUBLISHED-TTL:PT1H
BEGIN:VTIMEZONE
TZID:UTC
BEGIN:STANDARD
TZOFFSETFROM:+0000
TZOFFSETTO:+0000
TZNAME:UTC
DTSTART:20240101T000000
END:STANDARD
END:VTIMEZONE
BEGIN:VEVENT
DTSTART;TZID=UTC:20240505T100000
DTEND;TZID=UTC:20240505T110000
DTSTAMP:20260423T144107
CREATED:20240429T182500Z
LAST-MODIFIED:20240429T182500Z
UID:1954-1714903200-1714906800@stmarksdowney.org
SUMMARY:Easter 6 Morning Prayer
DESCRIPTION:
URL:https://stmarksdowney.org/calendar/easter-6-morning-prayer/
END:VEVENT
BEGIN:VEVENT
DTSTART;TZID=UTC:20240512T111500
DTEND;TZID=UTC:20240512T130000
DTSTAMP:20260423T144107
CREATED:20240429T182326Z
LAST-MODIFIED:20240429T183434Z
UID:1952-1715512500-1715518800@stmarksdowney.org
SUMMARY:Mother's Day Brunch and Raffle
DESCRIPTION:Come join us after the morning service at 11:15 for a delicious brunch with fried chicken supplied by your vestry and side dishes provided by the congregation.  There will several baskets for which you can buy tickets for a chance to win in a raffle.  Tickets may be purchased at the door. Please bring your whole family to enjoy this wonderful event.  Happy Mother’s Day to all.
URL:https://stmarksdowney.org/calendar/mothers-day-brunch-and-baskets-raffle/
END:VEVENT
BEGIN:VEVENT
DTSTART;TZID=UTC:20240515T190000
DTEND;TZID=UTC:20240515T210000
DTSTAMP:20260423T144107
CREATED:20240429T183055Z
LAST-MODIFIED:20240429T183055Z
UID:1962-1715799600-1715806800@stmarksdowney.org
SUMMARY:Vestry Meeting
DESCRIPTION:Vestry meets in the Guild Room
URL:https://stmarksdowney.org/calendar/vestry-meeting/
END:VEVENT
BEGIN:VEVENT
DTSTART;TZID=UTC:20240519T100000
DTEND;TZID=UTC:20240519T110000
DTSTAMP:20260423T144107
CREATED:20240429T182626Z
LAST-MODIFIED:20240429T182626Z
UID:1956-1716112800-1716116400@stmarksdowney.org
SUMMARY:Day of Pentecost
DESCRIPTION:
URL:https://stmarksdowney.org/calendar/day-of-pentecost/
END:VEVENT
BEGIN:VEVENT
DTSTART;TZID=UTC:20240526T100000
DTEND;TZID=UTC:20240526T110000
DTSTAMP:20260423T144107
CREATED:20240429T182735Z
LAST-MODIFIED:20240429T182735Z
UID:1958-1716717600-1716721200@stmarksdowney.org
SUMMARY:Trinity Sunday
DESCRIPTION:
URL:https://stmarksdowney.org/calendar/trinity-sunday/
END:VEVENT
END:VCALENDAR