BEGIN:VCALENDAR
VERSION:2.0
PRODID:-//St. Marks Downey - ECPv6.2.8//NONSGML v1.0//EN
CALSCALE:GREGORIAN
METHOD:PUBLISH
X-ORIGINAL-URL:https://stmarksdowney.org
X-WR-CALDESC:Events for St. Marks Downey
REFRESH-INTERVAL;VALUE=DURATION:PT1H
X-Robots-Tag:noindex
X-PUBLISHED-TTL:PT1H
BEGIN:VTIMEZONE
TZID:UTC
BEGIN:STANDARD
TZOFFSETFROM:+0000
TZOFFSETTO:+0000
TZNAME:UTC
DTSTART:20240101T000000
END:STANDARD
END:VTIMEZONE
BEGIN:VEVENT
DTSTART;TZID=UTC:20240306T180000
DTEND;TZID=UTC:20240306T193000
DTSTAMP:20260423T175226
CREATED:20240306T185304Z
LAST-MODIFIED:20240306T185642Z
UID:1927-1709748000-1709753400@stmarksdowney.org
SUMMARY:Lenten Soup and Study/Worship
DESCRIPTION:
URL:https://stmarksdowney.org/calendar/lenten-soup-and-study-worship/
LOCATION:Room 4
END:VEVENT
BEGIN:VEVENT
DTSTART;TZID=UTC:20240310T020000
DTEND;TZID=UTC:20240310T150000
DTSTAMP:20260423T175226
CREATED:20240306T192200Z
LAST-MODIFIED:20240306T192613Z
UID:1949-1710036000-1710082800@stmarksdowney.org
SUMMARY:Begin Daylight Savings Time
DESCRIPTION:Set your clocks an hour ahead!
URL:https://stmarksdowney.org/calendar/begin-daylight-savings-time/
END:VEVENT
BEGIN:VEVENT
DTSTART;TZID=UTC:20240310T100000
DTEND;TZID=UTC:20240310T110000
DTSTAMP:20260423T175226
CREATED:20240306T185513Z
LAST-MODIFIED:20240306T185513Z
UID:1930-1710064800-1710068400@stmarksdowney.org
SUMMARY:Lent 4 with Rev. Betsy Hooper-Rosebrook
DESCRIPTION:
URL:https://stmarksdowney.org/calendar/lent-4-with-rev-betsy-hooper-rosebrook/
END:VEVENT
BEGIN:VEVENT
DTSTART;TZID=UTC:20240313T180000
DTEND;TZID=UTC:20240313T193000
DTSTAMP:20260423T175226
CREATED:20240306T185830Z
LAST-MODIFIED:20240306T185830Z
UID:1934-1710352800-1710358200@stmarksdowney.org
SUMMARY:Lenten Soup and Study/Worship
DESCRIPTION:
URL:https://stmarksdowney.org/calendar/lenten-soup-and-study-worship-2/
LOCATION:Room 4
END:VEVENT
BEGIN:VEVENT
DTSTART;TZID=UTC:20240317T100000
DTEND;TZID=UTC:20240317T110000
DTSTAMP:20260423T175226
CREATED:20240306T190000Z
LAST-MODIFIED:20240306T190000Z
UID:1936-1710669600-1710673200@stmarksdowney.org
SUMMARY:Lent 5 with Rev. Ginna Benson
DESCRIPTION:
URL:https://stmarksdowney.org/calendar/lent-5-with-rev-ginna-benson/
END:VEVENT
BEGIN:VEVENT
DTSTART;TZID=UTC:20240320T180000
DTEND;TZID=UTC:20240320T193000
DTSTAMP:20260423T175226
CREATED:20240306T190144Z
LAST-MODIFIED:20240306T190219Z
UID:1938-1710957600-1710963000@stmarksdowney.org
SUMMARY:Lenten Soup and Study/Worship
DESCRIPTION:
URL:https://stmarksdowney.org/calendar/lenten-soup-and-study-worship-3/
END:VEVENT
BEGIN:VEVENT
DTSTART;TZID=UTC:20240324T100000
DTEND;TZID=UTC:20240324T110000
DTSTAMP:20260423T175226
CREATED:20240306T190847Z
LAST-MODIFIED:20240306T190847Z
UID:1940-1711274400-1711278000@stmarksdowney.org
SUMMARY:Palm Sunday
DESCRIPTION:Come hear the passion of our Lord Jesus Christ!
URL:https://stmarksdowney.org/calendar/palm-sunday/
END:VEVENT
BEGIN:VEVENT
DTSTART;TZID=UTC:20240328T063000
DTEND;TZID=UTC:20240328T193000
DTSTAMP:20260423T175226
CREATED:20240306T191028Z
LAST-MODIFIED:20240306T191028Z
UID:1943-1711607400-1711654200@stmarksdowney.org
SUMMARY:Maundy Thursday with Rev. Ginna Benson
DESCRIPTION:
URL:https://stmarksdowney.org/calendar/maundy-thursday-with-rev-ginna-benson/
END:VEVENT
BEGIN:VEVENT
DTSTART;TZID=UTC:20240329T120000
DTEND;TZID=UTC:20240329T130000
DTSTAMP:20260423T175226
CREATED:20240306T191512Z
LAST-MODIFIED:20240306T191512Z
UID:1945-1711713600-1711717200@stmarksdowney.org
SUMMARY:Good Friday Service
DESCRIPTION:
URL:https://stmarksdowney.org/calendar/good-friday-service/
END:VEVENT
BEGIN:VEVENT
DTSTART;TZID=UTC:20240331T100000
DTEND;TZID=UTC:20240331T110000
DTSTAMP:20260423T175226
CREATED:20240306T191924Z
LAST-MODIFIED:20240306T191924Z
UID:1947-1711879200-1711882800@stmarksdowney.org
SUMMARY:Easter Service
DESCRIPTION:Come celebrate the resurrection of Jesus with the St. Mark’s Community. There will be a brunch served directly after the service.
URL:https://stmarksdowney.org/calendar/easter-service/
END:VEVENT
END:VCALENDAR