BEGIN:VCALENDAR
VERSION:2.0
PRODID:-//St. Marks Downey - ECPv6.2.8//NONSGML v1.0//EN
CALSCALE:GREGORIAN
METHOD:PUBLISH
X-ORIGINAL-URL:https://stmarksdowney.org
X-WR-CALDESC:Events for St. Marks Downey
REFRESH-INTERVAL;VALUE=DURATION:PT1H
X-Robots-Tag:noindex
X-PUBLISHED-TTL:PT1H
BEGIN:VTIMEZONE
TZID:UTC
BEGIN:STANDARD
TZOFFSETFROM:+0000
TZOFFSETTO:+0000
TZNAME:UTC
DTSTART:20250101T000000
END:STANDARD
END:VTIMEZONE
BEGIN:VEVENT
DTSTART;TZID=UTC:20251224T180000
DTEND;TZID=UTC:20251224T193000
DTSTAMP:20260422T101347
CREATED:20251202T191528Z
LAST-MODIFIED:20251202T191840Z
UID:1992-1766599200-1766604600@stmarksdowney.org
SUMMARY:Christmas Eve Candlelight Service
DESCRIPTION:Carols sing along at 5:30\, service begins at 6:00 pm
URL:https://stmarksdowney.org/calendar/1992/
END:VEVENT
END:VCALENDAR