BEGIN:VCALENDAR
VERSION:2.0
PRODID:-//St. Marks Downey - ECPv6.2.8//NONSGML v1.0//EN
CALSCALE:GREGORIAN
METHOD:PUBLISH
X-ORIGINAL-URL:https://stmarksdowney.org
X-WR-CALDESC:Events for St. Marks Downey
REFRESH-INTERVAL;VALUE=DURATION:PT1H
X-Robots-Tag:noindex
X-PUBLISHED-TTL:PT1H
BEGIN:VTIMEZONE
TZID:UTC
BEGIN:STANDARD
TZOFFSETFROM:+0000
TZOFFSETTO:+0000
TZNAME:UTC
DTSTART:20250101T000000
END:STANDARD
END:VTIMEZONE
BEGIN:VEVENT
DTSTART;TZID=UTC:20250413T100000
DTEND;TZID=UTC:20250413T113000
DTSTAMP:20260422T223523
CREATED:20250407T175118Z
LAST-MODIFIED:20250407T175118Z
UID:1973-1744538400-1744543800@stmarksdowney.org
SUMMARY:Palm Sunday
DESCRIPTION:Come hear the passion story!
URL:https://stmarksdowney.org/calendar/palm-sunday-2/
LOCATION:Church
END:VEVENT
END:VCALENDAR