BEGIN:VCALENDAR
VERSION:2.0
PRODID:-//St. Marks Downey - ECPv6.2.8//NONSGML v1.0//EN
CALSCALE:GREGORIAN
METHOD:PUBLISH
X-ORIGINAL-URL:https://stmarksdowney.org
X-WR-CALDESC:Events for St. Marks Downey
REFRESH-INTERVAL;VALUE=DURATION:PT1H
X-Robots-Tag:noindex
X-PUBLISHED-TTL:PT1H
BEGIN:VTIMEZONE
TZID:UTC
BEGIN:STANDARD
TZOFFSETFROM:+0000
TZOFFSETTO:+0000
TZNAME:UTC
DTSTART:20240101T000000
END:STANDARD
END:VTIMEZONE
BEGIN:VEVENT
DTSTART;TZID=UTC:20241224T170000
DTEND;TZID=UTC:20241224T183000
DTSTAMP:20260423T043941
CREATED:20241219T203424Z
LAST-MODIFIED:20241219T203424Z
UID:1966-1735059600-1735065000@stmarksdowney.org
SUMMARY:Christmas Eve Service 5:00 pm
DESCRIPTION:
URL:https://stmarksdowney.org/calendar/christmas-eve-service-500-pm/
END:VEVENT
END:VCALENDAR