BEGIN:VCALENDAR
VERSION:2.0
PRODID:-//St. Marks Downey - ECPv6.2.8//NONSGML v1.0//EN
CALSCALE:GREGORIAN
METHOD:PUBLISH
X-ORIGINAL-URL:https://stmarksdowney.org
X-WR-CALDESC:Events for St. Marks Downey
REFRESH-INTERVAL;VALUE=DURATION:PT1H
X-Robots-Tag:noindex
X-PUBLISHED-TTL:PT1H
BEGIN:VTIMEZONE
TZID:UTC
BEGIN:STANDARD
TZOFFSETFROM:+0000
TZOFFSETTO:+0000
TZNAME:UTC
DTSTART:20240101T000000
END:STANDARD
END:VTIMEZONE
BEGIN:VEVENT
DTSTART;TZID=UTC:20240328T063000
DTEND;TZID=UTC:20240328T193000
DTSTAMP:20260423T192605
CREATED:20240306T191028Z
LAST-MODIFIED:20240306T191028Z
UID:1943-1711607400-1711654200@stmarksdowney.org
SUMMARY:Maundy Thursday with Rev. Ginna Benson
DESCRIPTION:
URL:https://stmarksdowney.org/calendar/maundy-thursday-with-rev-ginna-benson/
END:VEVENT
END:VCALENDAR