BEGIN:VCALENDAR
VERSION:2.0
PRODID:-//St. Marks Downey - ECPv6.2.8//NONSGML v1.0//EN
CALSCALE:GREGORIAN
METHOD:PUBLISH
X-WR-CALNAME:St. Marks Downey
X-ORIGINAL-URL:https://stmarksdowney.org
X-WR-CALDESC:Events for St. Marks Downey
REFRESH-INTERVAL;VALUE=DURATION:PT1H
X-Robots-Tag:noindex
X-PUBLISHED-TTL:PT1H
BEGIN:VTIMEZONE
TZID:UTC
BEGIN:STANDARD
TZOFFSETFROM:+0000
TZOFFSETTO:+0000
TZNAME:UTC
DTSTART:20240101T000000
END:STANDARD
END:VTIMEZONE
BEGIN:VEVENT
DTSTART;TZID=UTC:20240310T020000
DTEND;TZID=UTC:20240310T150000
DTSTAMP:20260423T193305
CREATED:20240306T192200Z
LAST-MODIFIED:20240306T192613Z
UID:1949-1710036000-1710082800@stmarksdowney.org
SUMMARY:Begin Daylight Savings Time
DESCRIPTION:Set your clocks an hour ahead!
URL:https://stmarksdowney.org/calendar/begin-daylight-savings-time/
END:VEVENT
BEGIN:VEVENT
DTSTART;TZID=UTC:20240310T100000
DTEND;TZID=UTC:20240310T110000
DTSTAMP:20260423T193305
CREATED:20240306T185513Z
LAST-MODIFIED:20240306T185513Z
UID:1930-1710064800-1710068400@stmarksdowney.org
SUMMARY:Lent 4 with Rev. Betsy Hooper-Rosebrook
DESCRIPTION:
URL:https://stmarksdowney.org/calendar/lent-4-with-rev-betsy-hooper-rosebrook/
END:VEVENT
END:VCALENDAR