BEGIN:VCALENDAR
VERSION:2.0
PRODID:-//St. Marks Downey - ECPv6.2.8//NONSGML v1.0//EN
CALSCALE:GREGORIAN
METHOD:PUBLISH
X-WR-CALNAME:St. Marks Downey
X-ORIGINAL-URL:https://stmarksdowney.org
X-WR-CALDESC:Events for St. Marks Downey
REFRESH-INTERVAL;VALUE=DURATION:PT1H
X-Robots-Tag:noindex
X-PUBLISHED-TTL:PT1H
BEGIN:VTIMEZONE
TZID:UTC
BEGIN:STANDARD
TZOFFSETFROM:+0000
TZOFFSETTO:+0000
TZNAME:UTC
DTSTART:20240101T000000
END:STANDARD
END:VTIMEZONE
BEGIN:VEVENT
DTSTART;TZID=UTC:20240204T110000
DTEND;TZID=UTC:20240204T123000
DTSTAMP:20260423T210258
CREATED:20220125T044143Z
LAST-MODIFIED:20240116T192739Z
UID:1846-1707044400-1707049800@stmarksdowney.org
SUMMARY:Annual Church Meeting\, after the 10 am service with lunch potluck in Room 4 and the Guild Room
DESCRIPTION:Annual Church Meeting\, after the 10 am service with lunch potluck
URL:https://stmarksdowney.org/calendar/1846/
END:VEVENT
END:VCALENDAR